BEGIN:VCALENDAR
VERSION:2.0
PRODID:-//Dark Riders - ECPv6.8.1//NONSGML v1.0//EN
CALSCALE:GREGORIAN
METHOD:PUBLISH
X-ORIGINAL-URL:https://darkriders.ro
X-WR-CALDESC:Events for Dark Riders
REFRESH-INTERVAL;VALUE=DURATION:PT1H
X-Robots-Tag:noindex
X-PUBLISHED-TTL:PT1H
BEGIN:VTIMEZONE
TZID:Europe/Bucharest
BEGIN:DAYLIGHT
TZOFFSETFROM:+0200
TZOFFSETTO:+0300
TZNAME:EEST
DTSTART:20250330T010000
END:DAYLIGHT
BEGIN:STANDARD
TZOFFSETFROM:+0300
TZOFFSETTO:+0200
TZNAME:EET
DTSTART:20251026T010000
END:STANDARD
END:VTIMEZONE
BEGIN:VEVENT
DTSTART;TZID=Europe/Bucharest:20250118T190000
DTEND;TZID=Europe/Bucharest:20250119T050000
DTSTAMP:20260420T200557
CREATED:20250114T080024Z
LAST-MODIFIED:20250114T080107Z
UID:7594-1737226800-1737262800@darkriders.ro
SUMMARY:Karaoke Night
DESCRIPTION:Va asteptam sâmbătă\, 18.01.2025\, începând cu ora 19:00 pentru o seară de karaoke. \nShot-uri de Jägermeister din partea noastră pentru cei care vor canta! \nAll bikers and friends are welcome!
URL:https://darkriders.ro/eveniment/karaoke-night/
LOCATION:Dark Riders MF\, Calea Aurel Vlaicu 270\, Arad\, 310375\, Romania
CATEGORIES:Socializare
ATTACH;FMTTYPE=image/jpeg:https://darkriders.ro/wp-content/uploads/2025/01/473488622_530530466700513_206857746205688302_n.jpg
END:VEVENT
END:VCALENDAR