BEGIN:VCALENDAR
VERSION:2.0
PRODID:-//Dark Riders - ECPv6.8.1//NONSGML v1.0//EN
CALSCALE:GREGORIAN
METHOD:PUBLISH
X-WR-CALNAME:Dark Riders
X-ORIGINAL-URL:https://darkriders.ro
X-WR-CALDESC:Events for Dark Riders
REFRESH-INTERVAL;VALUE=DURATION:PT1H
X-Robots-Tag:noindex
X-PUBLISHED-TTL:PT1H
BEGIN:VTIMEZONE
TZID:UTC
BEGIN:STANDARD
TZOFFSETFROM:+0000
TZOFFSETTO:+0000
TZNAME:UTC
DTSTART:20240101T000000
END:STANDARD
END:VTIMEZONE
BEGIN:VEVENT
DTSTART;TZID=UTC:20241109T180000
DTEND;TZID=UTC:20241209T050000
DTSTAMP:20260420T172233
CREATED:20170817T042610Z
LAST-MODIFIED:20241107T102506Z
UID:3357-1731175200-1733720400@darkriders.ro
SUMMARY:Seară de Fifa
DESCRIPTION:Avem plăcerea de a vă invita la evenimentul nostru: Seara de FIFA pe PlayStation\, care va avea loc pe 09 noiembrie 2024\, începând cu ora 18:00!Veniți să ne bucurăm împreună de cele mai intense meciuri de fotbal vazute pe un proiector.\nFie că ești un jucător experimentat sau doar vrei să te distrezi alături de prieteni\, acest eveniment este pentru tine!\nLocația: DarkRiders MF Arad CHData: 09 noiembrie 2024 Ora: 18:30\nVă așteptăm!
URL:https://darkriders.ro/eveniment/rolling-thunder-ride-for-freedom/
LOCATION:Dark Riders MF\, Calea Aurel Vlaicu 270\, Arad\, 310375\, Romania
CATEGORIES:Socializare
ATTACH;FMTTYPE=image/jpeg:https://darkriders.ro/wp-content/uploads/2017/08/465603505_481103258309901_7386697576573568342_n.jpg
END:VEVENT
END:VCALENDAR